BEGIN:VCALENDAR
VERSION:2.0
PRODID:icalendar-ruby
CALSCALE:GREGORIAN
BEGIN:VEVENT
DTSTAMP:20260423T101228Z
UID:00f1121b-bbc9-4a08-83b3-b2e792271b3a
DTSTART;VALUE=DATE:20250701
DESCRIPTION:Property ID# 953190\, Time: 5:30PM
SUMMARY:Auction for 
END:VEVENT
END:VCALENDAR
