BEGIN:VCALENDAR
VERSION:2.0
PRODID:icalendar-ruby
CALSCALE:GREGORIAN
BEGIN:VEVENT
DTSTAMP:20260419T122908Z
UID:c53df8bc-b308-41d5-8e96-a32646e254a4
DTSTART;TZID=Pacific/Auckland:20260418T135000
DTEND;TZID=Pacific/Auckland:20260418T142000
DESCRIPTION:Property ID# 1007417
SUMMARY:Openhome for 4/161 Arnold Street
END:VEVENT
END:VCALENDAR
